BEGIN:VCALENDAR
VERSION:2.0
PRODID:-//IBEW 375 - ECPv6.15.20//NONSGML v1.0//EN
CALSCALE:GREGORIAN
METHOD:PUBLISH
X-ORIGINAL-URL:https://ibew375.org
X-WR-CALDESC:Events for IBEW 375
REFRESH-INTERVAL;VALUE=DURATION:PT1H
X-Robots-Tag:noindex
X-PUBLISHED-TTL:PT1H
BEGIN:VTIMEZONE
TZID:America/New_York
BEGIN:DAYLIGHT
TZOFFSETFROM:-0500
TZOFFSETTO:-0400
TZNAME:EDT
DTSTART:20220313T070000
END:DAYLIGHT
BEGIN:STANDARD
TZOFFSETFROM:-0400
TZOFFSETTO:-0500
TZNAME:EST
DTSTART:20221106T060000
END:STANDARD
BEGIN:DAYLIGHT
TZOFFSETFROM:-0500
TZOFFSETTO:-0400
TZNAME:EDT
DTSTART:20230312T070000
END:DAYLIGHT
BEGIN:STANDARD
TZOFFSETFROM:-0400
TZOFFSETTO:-0500
TZNAME:EST
DTSTART:20231105T060000
END:STANDARD
BEGIN:DAYLIGHT
TZOFFSETFROM:-0500
TZOFFSETTO:-0400
TZNAME:EDT
DTSTART:20240310T070000
END:DAYLIGHT
BEGIN:STANDARD
TZOFFSETFROM:-0400
TZOFFSETTO:-0500
TZNAME:EST
DTSTART:20241103T060000
END:STANDARD
END:VTIMEZONE
BEGIN:VEVENT
DTSTART;TZID=America/New_York:20230522T170000
DTEND;TZID=America/New_York:20230522T200000
DTSTAMP:20260420T200732
CREATED:20230302T194522Z
LAST-MODIFIED:20230302T194902Z
UID:10000795-1684774800-1684785600@ibew375.org
SUMMARY:MSHA 8
DESCRIPTION:
URL:https://ibew375.org/event/msha-8/2023-05-22/
CATEGORIES:Safety
END:VEVENT
BEGIN:VEVENT
DTSTART;TZID=America/New_York:20230523T170000
DTEND;TZID=America/New_York:20230523T193000
DTSTAMP:20260420T200732
CREATED:20230403T184048Z
LAST-MODIFIED:20230403T184048Z
UID:10000906-1684861200-1684870200@ibew375.org
SUMMARY:Code Update Class
DESCRIPTION:
URL:https://ibew375.org/event/code-update-class-22/
CATEGORIES:NEC Code
END:VEVENT
BEGIN:VEVENT
DTSTART;TZID=America/New_York:20230525T170000
DTEND;TZID=America/New_York:20230525T193000
DTSTAMP:20260420T200732
CREATED:20230403T182035Z
LAST-MODIFIED:20230403T182035Z
UID:10000905-1685034000-1685043000@ibew375.org
SUMMARY:EVITP Class 3
DESCRIPTION:
URL:https://ibew375.org/event/evitp-class-3/
CATEGORIES:NEC Code
END:VEVENT
BEGIN:VEVENT
DTSTART;TZID=America/New_York:20230527T100000
DTEND;TZID=America/New_York:20230527T210000
DTSTAMP:20260420T200732
CREATED:20230404T143548Z
LAST-MODIFIED:20230404T143548Z
UID:10000917-1685181600-1685221200@ibew375.org
SUMMARY:Dorney Park Day
DESCRIPTION:
URL:https://ibew375.org/event/dorney-park-day/
END:VEVENT
END:VCALENDAR