BEGIN:VCALENDAR
VERSION:2.0
PRODID:-//IBEW 375 - ECPv6.15.20//NONSGML v1.0//EN
CALSCALE:GREGORIAN
METHOD:PUBLISH
X-WR-CALNAME:IBEW 375
X-ORIGINAL-URL:https://ibew375.org
X-WR-CALDESC:Events for IBEW 375
REFRESH-INTERVAL;VALUE=DURATION:PT1H
X-Robots-Tag:noindex
X-PUBLISHED-TTL:PT1H
BEGIN:VTIMEZONE
TZID:America/New_York
BEGIN:DAYLIGHT
TZOFFSETFROM:-0500
TZOFFSETTO:-0400
TZNAME:EDT
DTSTART:20210314T070000
END:DAYLIGHT
BEGIN:STANDARD
TZOFFSETFROM:-0400
TZOFFSETTO:-0500
TZNAME:EST
DTSTART:20211107T060000
END:STANDARD
BEGIN:DAYLIGHT
TZOFFSETFROM:-0500
TZOFFSETTO:-0400
TZNAME:EDT
DTSTART:20220313T070000
END:DAYLIGHT
BEGIN:STANDARD
TZOFFSETFROM:-0400
TZOFFSETTO:-0500
TZNAME:EST
DTSTART:20221106T060000
END:STANDARD
BEGIN:DAYLIGHT
TZOFFSETFROM:-0500
TZOFFSETTO:-0400
TZNAME:EDT
DTSTART:20230312T070000
END:DAYLIGHT
BEGIN:STANDARD
TZOFFSETFROM:-0400
TZOFFSETTO:-0500
TZNAME:EST
DTSTART:20231105T060000
END:STANDARD
END:VTIMEZONE
BEGIN:VEVENT
DTSTART;TZID=America/New_York:20221211T120000
DTEND;TZID=America/New_York:20221211T150000
DTSTAMP:20260421T090914
CREATED:20210119T213523Z
LAST-MODIFIED:20210119T213523Z
UID:10000716-1670760000-1670770800@ibew375.org
SUMMARY:MSHA 8 Refresher
DESCRIPTION:
URL:https://ibew375.org/event/msha-8-refresher-6/2022-12-11/
CATEGORIES:Safety
END:VEVENT
BEGIN:VEVENT
DTSTART;TZID=America/New_York:20221212T120000
DTEND;TZID=America/New_York:20221212T150000
DTSTAMP:20260421T090914
CREATED:20210119T213523Z
LAST-MODIFIED:20210119T213523Z
UID:10000717-1670846400-1670857200@ibew375.org
SUMMARY:MSHA 8 Refresher
DESCRIPTION:
URL:https://ibew375.org/event/msha-8-refresher-6/2022-12-12/
CATEGORIES:Safety
END:VEVENT
BEGIN:VEVENT
DTSTART;TZID=America/New_York:20221213T120000
DTEND;TZID=America/New_York:20221213T140000
DTSTAMP:20260421T090914
CREATED:20221013T201130Z
LAST-MODIFIED:20221013T201130Z
UID:10000785-1670932800-1670940000@ibew375.org
SUMMARY:EVITP Class 2 of 3
DESCRIPTION:
URL:https://ibew375.org/event/evitp-class-2-of-3/
CATEGORIES:Safety
END:VEVENT
END:VCALENDAR