BEGIN:VCALENDAR
VERSION:2.0
PRODID:-//IBEW 375 - ECPv6.15.20//NONSGML v1.0//EN
CALSCALE:GREGORIAN
METHOD:PUBLISH
X-ORIGINAL-URL:https://ibew375.org
X-WR-CALDESC:Events for IBEW 375
REFRESH-INTERVAL;VALUE=DURATION:PT1H
X-Robots-Tag:noindex
X-PUBLISHED-TTL:PT1H
BEGIN:VTIMEZONE
TZID:America/New_York
BEGIN:DAYLIGHT
TZOFFSETFROM:-0500
TZOFFSETTO:-0400
TZNAME:EDT
DTSTART:20210314T070000
END:DAYLIGHT
BEGIN:STANDARD
TZOFFSETFROM:-0400
TZOFFSETTO:-0500
TZNAME:EST
DTSTART:20211107T060000
END:STANDARD
BEGIN:DAYLIGHT
TZOFFSETFROM:-0500
TZOFFSETTO:-0400
TZNAME:EDT
DTSTART:20220313T070000
END:DAYLIGHT
BEGIN:STANDARD
TZOFFSETFROM:-0400
TZOFFSETTO:-0500
TZNAME:EST
DTSTART:20221106T060000
END:STANDARD
BEGIN:DAYLIGHT
TZOFFSETFROM:-0500
TZOFFSETTO:-0400
TZNAME:EDT
DTSTART:20230312T070000
END:DAYLIGHT
BEGIN:STANDARD
TZOFFSETFROM:-0400
TZOFFSETTO:-0500
TZNAME:EST
DTSTART:20231105T060000
END:STANDARD
END:VTIMEZONE
BEGIN:VEVENT
DTSTART;TZID=America/New_York:20221204T120000
DTEND;TZID=America/New_York:20221204T150000
DTSTAMP:20260421T073615
CREATED:20210119T213523Z
LAST-MODIFIED:20210119T213523Z
UID:10000709-1670155200-1670166000@ibew375.org
SUMMARY:MSHA 8 Refresher
DESCRIPTION:
URL:https://ibew375.org/event/msha-8-refresher-6/2022-12-04/
CATEGORIES:Safety
END:VEVENT
BEGIN:VEVENT
DTSTART;TZID=America/New_York:20221205T120000
DTEND;TZID=America/New_York:20221205T150000
DTSTAMP:20260421T073615
CREATED:20210119T213523Z
LAST-MODIFIED:20210119T213523Z
UID:10000710-1670241600-1670252400@ibew375.org
SUMMARY:MSHA 8 Refresher
DESCRIPTION:
URL:https://ibew375.org/event/msha-8-refresher-6/2022-12-05/
CATEGORIES:Safety
END:VEVENT
BEGIN:VEVENT
DTSTART;TZID=America/New_York:20221206T120000
DTEND;TZID=America/New_York:20221206T140000
DTSTAMP:20260421T073615
CREATED:20221013T201047Z
LAST-MODIFIED:20221013T201047Z
UID:10000784-1670328000-1670335200@ibew375.org
SUMMARY:EVITP Class 1 of 3
DESCRIPTION:
URL:https://ibew375.org/event/evitp-class-1-of-3/
CATEGORIES:Safety
END:VEVENT
BEGIN:VEVENT
DTSTART;TZID=America/New_York:20221206T120000
DTEND;TZID=America/New_York:20221206T143000
DTSTAMP:20260421T073615
CREATED:20220902T004044Z
LAST-MODIFIED:20220902T004044Z
UID:10000084-1670328000-1670337000@ibew375.org
SUMMARY:Code Update Class
DESCRIPTION:
URL:https://ibew375.org/event/code-update-class-19/
CATEGORIES:NEC Code
END:VEVENT
BEGIN:VEVENT
DTSTART;TZID=America/New_York:20221206T120000
DTEND;TZID=America/New_York:20221206T150000
DTSTAMP:20260421T073615
CREATED:20210119T213523Z
LAST-MODIFIED:20210119T213523Z
UID:10000711-1670328000-1670338800@ibew375.org
SUMMARY:MSHA 8 Refresher
DESCRIPTION:
URL:https://ibew375.org/event/msha-8-refresher-6/2022-12-06/
CATEGORIES:Safety
END:VEVENT
BEGIN:VEVENT
DTSTART;TZID=America/New_York:20221207T120000
DTEND;TZID=America/New_York:20221207T150000
DTSTAMP:20260421T073615
CREATED:20210119T213523Z
LAST-MODIFIED:20210119T213523Z
UID:10000712-1670414400-1670425200@ibew375.org
SUMMARY:MSHA 8 Refresher
DESCRIPTION:
URL:https://ibew375.org/event/msha-8-refresher-6/2022-12-07/
CATEGORIES:Safety
END:VEVENT
BEGIN:VEVENT
DTSTART;TZID=America/New_York:20221208T120000
DTEND;TZID=America/New_York:20221208T150000
DTSTAMP:20260421T073615
CREATED:20210119T213523Z
LAST-MODIFIED:20210119T213523Z
UID:10000713-1670500800-1670511600@ibew375.org
SUMMARY:MSHA 8 Refresher
DESCRIPTION:
URL:https://ibew375.org/event/msha-8-refresher-6/2022-12-08/
CATEGORIES:Safety
END:VEVENT
BEGIN:VEVENT
DTSTART;TZID=America/New_York:20221209T120000
DTEND;TZID=America/New_York:20221209T150000
DTSTAMP:20260421T073615
CREATED:20210119T213523Z
LAST-MODIFIED:20210119T213523Z
UID:10000714-1670587200-1670598000@ibew375.org
SUMMARY:MSHA 8 Refresher
DESCRIPTION:
URL:https://ibew375.org/event/msha-8-refresher-6/2022-12-09/
CATEGORIES:Safety
END:VEVENT
BEGIN:VEVENT
DTSTART;TZID=America/New_York:20221210T120000
DTEND;TZID=America/New_York:20221210T150000
DTSTAMP:20260421T073615
CREATED:20210119T213523Z
LAST-MODIFIED:20210119T213523Z
UID:10000715-1670673600-1670684400@ibew375.org
SUMMARY:MSHA 8 Refresher
DESCRIPTION:
URL:https://ibew375.org/event/msha-8-refresher-6/2022-12-10/
CATEGORIES:Safety
END:VEVENT
END:VCALENDAR