BEGIN:VCALENDAR
VERSION:2.0
PRODID:-//IBEW 375 - ECPv6.15.20//NONSGML v1.0//EN
CALSCALE:GREGORIAN
METHOD:PUBLISH
X-WR-CALNAME:IBEW 375
X-ORIGINAL-URL:https://ibew375.org
X-WR-CALDESC:Events for IBEW 375
REFRESH-INTERVAL;VALUE=DURATION:PT1H
X-Robots-Tag:noindex
X-PUBLISHED-TTL:PT1H
BEGIN:VTIMEZONE
TZID:America/New_York
BEGIN:DAYLIGHT
TZOFFSETFROM:-0500
TZOFFSETTO:-0400
TZNAME:EDT
DTSTART:20210314T070000
END:DAYLIGHT
BEGIN:STANDARD
TZOFFSETFROM:-0400
TZOFFSETTO:-0500
TZNAME:EST
DTSTART:20211107T060000
END:STANDARD
BEGIN:DAYLIGHT
TZOFFSETFROM:-0500
TZOFFSETTO:-0400
TZNAME:EDT
DTSTART:20220313T070000
END:DAYLIGHT
BEGIN:STANDARD
TZOFFSETFROM:-0400
TZOFFSETTO:-0500
TZNAME:EST
DTSTART:20221106T060000
END:STANDARD
BEGIN:DAYLIGHT
TZOFFSETFROM:-0500
TZOFFSETTO:-0400
TZNAME:EDT
DTSTART:20230312T070000
END:DAYLIGHT
BEGIN:STANDARD
TZOFFSETFROM:-0400
TZOFFSETTO:-0500
TZNAME:EST
DTSTART:20231105T060000
END:STANDARD
END:VTIMEZONE
BEGIN:VEVENT
DTSTART;TZID=America/New_York:20221030T130000
DTEND;TZID=America/New_York:20221030T160000
DTSTAMP:20260421T073305
CREATED:20210119T213523Z
LAST-MODIFIED:20210119T213523Z
UID:10000674-1667134800-1667145600@ibew375.org
SUMMARY:MSHA 8 Refresher
DESCRIPTION:
URL:https://ibew375.org/event/msha-8-refresher-6/2022-10-30/
CATEGORIES:Safety
END:VEVENT
BEGIN:VEVENT
DTSTART;TZID=America/New_York:20221031T130000
DTEND;TZID=America/New_York:20221031T160000
DTSTAMP:20260421T073305
CREATED:20210119T213523Z
LAST-MODIFIED:20210119T213523Z
UID:10000675-1667221200-1667232000@ibew375.org
SUMMARY:MSHA 8 Refresher
DESCRIPTION:
URL:https://ibew375.org/event/msha-8-refresher-6/2022-10-31/
CATEGORIES:Safety
END:VEVENT
BEGIN:VEVENT
DTSTART;TZID=America/New_York:20221101T130000
DTEND;TZID=America/New_York:20221101T160000
DTSTAMP:20260421T073305
CREATED:20210119T213523Z
LAST-MODIFIED:20210119T213523Z
UID:10000676-1667307600-1667318400@ibew375.org
SUMMARY:MSHA 8 Refresher
DESCRIPTION:
URL:https://ibew375.org/event/msha-8-refresher-6/2022-11-01/
CATEGORIES:Safety
END:VEVENT
BEGIN:VEVENT
DTSTART;TZID=America/New_York:20221102T130000
DTEND;TZID=America/New_York:20221102T160000
DTSTAMP:20260421T073305
CREATED:20210119T213523Z
LAST-MODIFIED:20210119T213523Z
UID:10000677-1667394000-1667404800@ibew375.org
SUMMARY:MSHA 8 Refresher
DESCRIPTION:
URL:https://ibew375.org/event/msha-8-refresher-6/2022-11-02/
CATEGORIES:Safety
END:VEVENT
BEGIN:VEVENT
DTSTART;TZID=America/New_York:20221103T130000
DTEND;TZID=America/New_York:20221103T160000
DTSTAMP:20260421T073305
CREATED:20210119T213523Z
LAST-MODIFIED:20210119T213523Z
UID:10000678-1667480400-1667491200@ibew375.org
SUMMARY:MSHA 8 Refresher
DESCRIPTION:
URL:https://ibew375.org/event/msha-8-refresher-6/2022-11-03/
CATEGORIES:Safety
END:VEVENT
BEGIN:VEVENT
DTSTART;TZID=America/New_York:20221104T130000
DTEND;TZID=America/New_York:20221104T160000
DTSTAMP:20260421T073305
CREATED:20210119T213523Z
LAST-MODIFIED:20210119T213523Z
UID:10000679-1667566800-1667577600@ibew375.org
SUMMARY:MSHA 8 Refresher
DESCRIPTION:
URL:https://ibew375.org/event/msha-8-refresher-6/2022-11-04/
CATEGORIES:Safety
END:VEVENT
BEGIN:VEVENT
DTSTART;TZID=America/New_York:20221105T130000
DTEND;TZID=America/New_York:20221105T160000
DTSTAMP:20260421T073305
CREATED:20210119T213523Z
LAST-MODIFIED:20210119T213523Z
UID:10000680-1667653200-1667664000@ibew375.org
SUMMARY:MSHA 8 Refresher
DESCRIPTION:
URL:https://ibew375.org/event/msha-8-refresher-6/2022-11-05/
CATEGORIES:Safety
END:VEVENT
END:VCALENDAR