BEGIN:VCALENDAR
VERSION:2.0
PRODID:-//IBEW 375 - ECPv6.15.20//NONSGML v1.0//EN
CALSCALE:GREGORIAN
METHOD:PUBLISH
X-ORIGINAL-URL:https://ibew375.org
X-WR-CALDESC:Events for IBEW 375
REFRESH-INTERVAL;VALUE=DURATION:PT1H
X-Robots-Tag:noindex
X-PUBLISHED-TTL:PT1H
BEGIN:VTIMEZONE
TZID:America/New_York
BEGIN:DAYLIGHT
TZOFFSETFROM:-0500
TZOFFSETTO:-0400
TZNAME:EDT
DTSTART:20210314T070000
END:DAYLIGHT
BEGIN:STANDARD
TZOFFSETFROM:-0400
TZOFFSETTO:-0500
TZNAME:EST
DTSTART:20211107T060000
END:STANDARD
BEGIN:DAYLIGHT
TZOFFSETFROM:-0500
TZOFFSETTO:-0400
TZNAME:EDT
DTSTART:20220313T070000
END:DAYLIGHT
BEGIN:STANDARD
TZOFFSETFROM:-0400
TZOFFSETTO:-0500
TZNAME:EST
DTSTART:20221106T060000
END:STANDARD
BEGIN:DAYLIGHT
TZOFFSETFROM:-0500
TZOFFSETTO:-0400
TZNAME:EDT
DTSTART:20230312T070000
END:DAYLIGHT
BEGIN:STANDARD
TZOFFSETFROM:-0400
TZOFFSETTO:-0500
TZNAME:EST
DTSTART:20231105T060000
END:STANDARD
END:VTIMEZONE
BEGIN:VEVENT
DTSTART;TZID=America/New_York:20221016T130000
DTEND;TZID=America/New_York:20221016T160000
DTSTAMP:20260421T055313
CREATED:20210119T213523Z
LAST-MODIFIED:20210119T213523Z
UID:10000660-1665925200-1665936000@ibew375.org
SUMMARY:MSHA 8 Refresher
DESCRIPTION:
URL:https://ibew375.org/event/msha-8-refresher-6/2022-10-16/
CATEGORIES:Safety
END:VEVENT
BEGIN:VEVENT
DTSTART;TZID=America/New_York:20221017T130000
DTEND;TZID=America/New_York:20221017T160000
DTSTAMP:20260421T055313
CREATED:20210119T213523Z
LAST-MODIFIED:20210119T213523Z
UID:10000661-1666011600-1666022400@ibew375.org
SUMMARY:MSHA 8 Refresher
DESCRIPTION:
URL:https://ibew375.org/event/msha-8-refresher-6/2022-10-17/
CATEGORIES:Safety
END:VEVENT
BEGIN:VEVENT
DTSTART;TZID=America/New_York:20221018T130000
DTEND;TZID=America/New_York:20221018T153000
DTSTAMP:20260421T055313
CREATED:20220902T003853Z
LAST-MODIFIED:20221005T230955Z
UID:10000080-1666098000-1666107000@ibew375.org
SUMMARY:Code Update Class
DESCRIPTION:
URL:https://ibew375.org/event/code-update-class-17/
CATEGORIES:NEC Code
END:VEVENT
BEGIN:VEVENT
DTSTART;TZID=America/New_York:20221018T130000
DTEND;TZID=America/New_York:20221018T153000
DTSTAMP:20260421T055313
CREATED:20220930T002217Z
LAST-MODIFIED:20220930T002217Z
UID:10000099-1666098000-1666107000@ibew375.org
SUMMARY:Basic Life Support (CPR)
DESCRIPTION:
URL:https://ibew375.org/event/basic-life-support-cpr/
END:VEVENT
BEGIN:VEVENT
DTSTART;TZID=America/New_York:20221018T130000
DTEND;TZID=America/New_York:20221018T160000
DTSTAMP:20260421T055313
CREATED:20210119T213523Z
LAST-MODIFIED:20210119T213523Z
UID:10000662-1666098000-1666108800@ibew375.org
SUMMARY:MSHA 8 Refresher
DESCRIPTION:
URL:https://ibew375.org/event/msha-8-refresher-6/2022-10-18/
CATEGORIES:Safety
END:VEVENT
BEGIN:VEVENT
DTSTART;TZID=America/New_York:20221019T130000
DTEND;TZID=America/New_York:20221019T160000
DTSTAMP:20260421T055313
CREATED:20210119T213523Z
LAST-MODIFIED:20210119T213523Z
UID:10000663-1666184400-1666195200@ibew375.org
SUMMARY:MSHA 8 Refresher
DESCRIPTION:
URL:https://ibew375.org/event/msha-8-refresher-6/2022-10-19/
CATEGORIES:Safety
END:VEVENT
BEGIN:VEVENT
DTSTART;TZID=America/New_York:20221020T130000
DTEND;TZID=America/New_York:20221020T160000
DTSTAMP:20260421T055313
CREATED:20210119T213523Z
LAST-MODIFIED:20210119T213523Z
UID:10000664-1666270800-1666281600@ibew375.org
SUMMARY:MSHA 8 Refresher
DESCRIPTION:
URL:https://ibew375.org/event/msha-8-refresher-6/2022-10-20/
CATEGORIES:Safety
END:VEVENT
BEGIN:VEVENT
DTSTART;TZID=America/New_York:20221021T130000
DTEND;TZID=America/New_York:20221021T160000
DTSTAMP:20260421T055313
CREATED:20210119T213523Z
LAST-MODIFIED:20210119T213523Z
UID:10000665-1666357200-1666368000@ibew375.org
SUMMARY:MSHA 8 Refresher
DESCRIPTION:
URL:https://ibew375.org/event/msha-8-refresher-6/2022-10-21/
CATEGORIES:Safety
END:VEVENT
BEGIN:VEVENT
DTSTART;TZID=America/New_York:20221022T130000
DTEND;TZID=America/New_York:20221022T160000
DTSTAMP:20260421T055313
CREATED:20210119T213523Z
LAST-MODIFIED:20210119T213523Z
UID:10000666-1666443600-1666454400@ibew375.org
SUMMARY:MSHA 8 Refresher
DESCRIPTION:
URL:https://ibew375.org/event/msha-8-refresher-6/2022-10-22/
CATEGORIES:Safety
END:VEVENT
END:VCALENDAR