BEGIN:VCALENDAR
VERSION:2.0
PRODID:-//IBEW 375 - ECPv6.15.20//NONSGML v1.0//EN
CALSCALE:GREGORIAN
METHOD:PUBLISH
X-WR-CALNAME:IBEW 375
X-ORIGINAL-URL:https://ibew375.org
X-WR-CALDESC:Events for IBEW 375
REFRESH-INTERVAL;VALUE=DURATION:PT1H
X-Robots-Tag:noindex
X-PUBLISHED-TTL:PT1H
BEGIN:VTIMEZONE
TZID:America/New_York
BEGIN:DAYLIGHT
TZOFFSETFROM:-0500
TZOFFSETTO:-0400
TZNAME:EDT
DTSTART:20210314T070000
END:DAYLIGHT
BEGIN:STANDARD
TZOFFSETFROM:-0400
TZOFFSETTO:-0500
TZNAME:EST
DTSTART:20211107T060000
END:STANDARD
BEGIN:DAYLIGHT
TZOFFSETFROM:-0500
TZOFFSETTO:-0400
TZNAME:EDT
DTSTART:20220313T070000
END:DAYLIGHT
BEGIN:STANDARD
TZOFFSETFROM:-0400
TZOFFSETTO:-0500
TZNAME:EST
DTSTART:20221106T060000
END:STANDARD
BEGIN:DAYLIGHT
TZOFFSETFROM:-0500
TZOFFSETTO:-0400
TZNAME:EDT
DTSTART:20230312T070000
END:DAYLIGHT
BEGIN:STANDARD
TZOFFSETFROM:-0400
TZOFFSETTO:-0500
TZNAME:EST
DTSTART:20231105T060000
END:STANDARD
END:VTIMEZONE
BEGIN:VEVENT
DTSTART;TZID=America/New_York:20221002T130000
DTEND;TZID=America/New_York:20221002T160000
DTSTAMP:20260421T090748
CREATED:20210119T213523Z
LAST-MODIFIED:20210119T213523Z
UID:10000646-1664715600-1664726400@ibew375.org
SUMMARY:MSHA 8 Refresher
DESCRIPTION:
URL:https://ibew375.org/event/msha-8-refresher-6/2022-10-02/
CATEGORIES:Safety
END:VEVENT
BEGIN:VEVENT
DTSTART;TZID=America/New_York:20221003T130000
DTEND;TZID=America/New_York:20221003T160000
DTSTAMP:20260421T090748
CREATED:20210119T213523Z
LAST-MODIFIED:20210119T213523Z
UID:10000647-1664802000-1664812800@ibew375.org
SUMMARY:MSHA 8 Refresher
DESCRIPTION:
URL:https://ibew375.org/event/msha-8-refresher-6/2022-10-03/
CATEGORIES:Safety
END:VEVENT
BEGIN:VEVENT
DTSTART;TZID=America/New_York:20221004T130000
DTEND;TZID=America/New_York:20221004T160000
DTSTAMP:20260421T090748
CREATED:20210119T213523Z
LAST-MODIFIED:20210119T213523Z
UID:10000648-1664888400-1664899200@ibew375.org
SUMMARY:MSHA 8 Refresher
DESCRIPTION:
URL:https://ibew375.org/event/msha-8-refresher-6/2022-10-04/
CATEGORIES:Safety
END:VEVENT
BEGIN:VEVENT
DTSTART;TZID=America/New_York:20221005T130000
DTEND;TZID=America/New_York:20221005T160000
DTSTAMP:20260421T090748
CREATED:20210119T213523Z
LAST-MODIFIED:20210119T213523Z
UID:10000649-1664974800-1664985600@ibew375.org
SUMMARY:MSHA 8 Refresher
DESCRIPTION:
URL:https://ibew375.org/event/msha-8-refresher-6/2022-10-05/
CATEGORIES:Safety
END:VEVENT
BEGIN:VEVENT
DTSTART;TZID=America/New_York:20221006T130000
DTEND;TZID=America/New_York:20221006T160000
DTSTAMP:20260421T090748
CREATED:20210119T213523Z
LAST-MODIFIED:20210119T213523Z
UID:10000650-1665061200-1665072000@ibew375.org
SUMMARY:MSHA 8 Refresher
DESCRIPTION:
URL:https://ibew375.org/event/msha-8-refresher-6/2022-10-06/
CATEGORIES:Safety
END:VEVENT
BEGIN:VEVENT
DTSTART;TZID=America/New_York:20221007T130000
DTEND;TZID=America/New_York:20221007T160000
DTSTAMP:20260421T090748
CREATED:20210119T213523Z
LAST-MODIFIED:20210119T213523Z
UID:10000651-1665147600-1665158400@ibew375.org
SUMMARY:MSHA 8 Refresher
DESCRIPTION:
URL:https://ibew375.org/event/msha-8-refresher-6/2022-10-07/
CATEGORIES:Safety
END:VEVENT
BEGIN:VEVENT
DTSTART;TZID=America/New_York:20221008T130000
DTEND;TZID=America/New_York:20221008T160000
DTSTAMP:20260421T090748
CREATED:20210119T213523Z
LAST-MODIFIED:20210119T213523Z
UID:10000652-1665234000-1665244800@ibew375.org
SUMMARY:MSHA 8 Refresher
DESCRIPTION:
URL:https://ibew375.org/event/msha-8-refresher-6/2022-10-08/
CATEGORIES:Safety
END:VEVENT
END:VCALENDAR