BEGIN:VCALENDAR
VERSION:2.0
PRODID:-//IBEW 375 - ECPv6.15.20//NONSGML v1.0//EN
CALSCALE:GREGORIAN
METHOD:PUBLISH
X-ORIGINAL-URL:https://ibew375.org
X-WR-CALDESC:Events for IBEW 375
REFRESH-INTERVAL;VALUE=DURATION:PT1H
X-Robots-Tag:noindex
X-PUBLISHED-TTL:PT1H
BEGIN:VTIMEZONE
TZID:America/New_York
BEGIN:DAYLIGHT
TZOFFSETFROM:-0500
TZOFFSETTO:-0400
TZNAME:EDT
DTSTART:20210314T070000
END:DAYLIGHT
BEGIN:STANDARD
TZOFFSETFROM:-0400
TZOFFSETTO:-0500
TZNAME:EST
DTSTART:20211107T060000
END:STANDARD
BEGIN:DAYLIGHT
TZOFFSETFROM:-0500
TZOFFSETTO:-0400
TZNAME:EDT
DTSTART:20220313T070000
END:DAYLIGHT
BEGIN:STANDARD
TZOFFSETFROM:-0400
TZOFFSETTO:-0500
TZNAME:EST
DTSTART:20221106T060000
END:STANDARD
BEGIN:DAYLIGHT
TZOFFSETFROM:-0500
TZOFFSETTO:-0400
TZNAME:EDT
DTSTART:20230312T070000
END:DAYLIGHT
BEGIN:STANDARD
TZOFFSETFROM:-0400
TZOFFSETTO:-0500
TZNAME:EST
DTSTART:20231105T060000
END:STANDARD
END:VTIMEZONE
BEGIN:VEVENT
DTSTART;TZID=America/New_York:20220911T130000
DTEND;TZID=America/New_York:20220911T160000
DTSTAMP:20260421T190012
CREATED:20210119T213523Z
LAST-MODIFIED:20210119T213523Z
UID:10000625-1662901200-1662912000@ibew375.org
SUMMARY:MSHA 8 Refresher
DESCRIPTION:
URL:https://ibew375.org/event/msha-8-refresher-6/2022-09-11/
CATEGORIES:Safety
END:VEVENT
BEGIN:VEVENT
DTSTART;TZID=America/New_York:20220912T130000
DTEND;TZID=America/New_York:20220912T160000
DTSTAMP:20260421T190012
CREATED:20210119T213523Z
LAST-MODIFIED:20210119T213523Z
UID:10000626-1662987600-1662998400@ibew375.org
SUMMARY:MSHA 8 Refresher
DESCRIPTION:
URL:https://ibew375.org/event/msha-8-refresher-6/2022-09-12/
CATEGORIES:Safety
END:VEVENT
BEGIN:VEVENT
DTSTART;TZID=America/New_York:20220913T130000
DTEND;TZID=America/New_York:20220913T160000
DTSTAMP:20260421T190012
CREATED:20210119T213523Z
LAST-MODIFIED:20210119T213523Z
UID:10000627-1663074000-1663084800@ibew375.org
SUMMARY:MSHA 8 Refresher
DESCRIPTION:
URL:https://ibew375.org/event/msha-8-refresher-6/2022-09-13/
CATEGORIES:Safety
END:VEVENT
BEGIN:VEVENT
DTSTART;TZID=America/New_York:20220914T130000
DTEND;TZID=America/New_York:20220914T160000
DTSTAMP:20260421T190012
CREATED:20210119T213523Z
LAST-MODIFIED:20210119T213523Z
UID:10000628-1663160400-1663171200@ibew375.org
SUMMARY:MSHA 8 Refresher
DESCRIPTION:
URL:https://ibew375.org/event/msha-8-refresher-6/2022-09-14/
CATEGORIES:Safety
END:VEVENT
BEGIN:VEVENT
DTSTART;TZID=America/New_York:20220915T130000
DTEND;TZID=America/New_York:20220915T160000
DTSTAMP:20260421T190012
CREATED:20210119T213523Z
LAST-MODIFIED:20210119T213523Z
UID:10000629-1663246800-1663257600@ibew375.org
SUMMARY:MSHA 8 Refresher
DESCRIPTION:
URL:https://ibew375.org/event/msha-8-refresher-6/2022-09-15/
CATEGORIES:Safety
END:VEVENT
BEGIN:VEVENT
DTSTART;TZID=America/New_York:20220916T130000
DTEND;TZID=America/New_York:20220916T160000
DTSTAMP:20260421T190012
CREATED:20210119T213523Z
LAST-MODIFIED:20210119T213523Z
UID:10000630-1663333200-1663344000@ibew375.org
SUMMARY:MSHA 8 Refresher
DESCRIPTION:
URL:https://ibew375.org/event/msha-8-refresher-6/2022-09-16/
CATEGORIES:Safety
END:VEVENT
BEGIN:VEVENT
DTSTART;TZID=America/New_York:20220917T130000
DTEND;TZID=America/New_York:20220917T160000
DTSTAMP:20260421T190012
CREATED:20210119T213523Z
LAST-MODIFIED:20210119T213523Z
UID:10000631-1663419600-1663430400@ibew375.org
SUMMARY:MSHA 8 Refresher
DESCRIPTION:
URL:https://ibew375.org/event/msha-8-refresher-6/2022-09-17/
CATEGORIES:Safety
END:VEVENT
END:VCALENDAR