BEGIN:VCALENDAR
VERSION:2.0
PRODID:-//IBEW 375 - ECPv6.15.20//NONSGML v1.0//EN
CALSCALE:GREGORIAN
METHOD:PUBLISH
X-WR-CALNAME:IBEW 375
X-ORIGINAL-URL:https://ibew375.org
X-WR-CALDESC:Events for IBEW 375
REFRESH-INTERVAL;VALUE=DURATION:PT1H
X-Robots-Tag:noindex
X-PUBLISHED-TTL:PT1H
BEGIN:VTIMEZONE
TZID:America/New_York
BEGIN:DAYLIGHT
TZOFFSETFROM:-0500
TZOFFSETTO:-0400
TZNAME:EDT
DTSTART:20210314T070000
END:DAYLIGHT
BEGIN:STANDARD
TZOFFSETFROM:-0400
TZOFFSETTO:-0500
TZNAME:EST
DTSTART:20211107T060000
END:STANDARD
BEGIN:DAYLIGHT
TZOFFSETFROM:-0500
TZOFFSETTO:-0400
TZNAME:EDT
DTSTART:20220313T070000
END:DAYLIGHT
BEGIN:STANDARD
TZOFFSETFROM:-0400
TZOFFSETTO:-0500
TZNAME:EST
DTSTART:20221106T060000
END:STANDARD
BEGIN:DAYLIGHT
TZOFFSETFROM:-0500
TZOFFSETTO:-0400
TZNAME:EDT
DTSTART:20230312T070000
END:DAYLIGHT
BEGIN:STANDARD
TZOFFSETFROM:-0400
TZOFFSETTO:-0500
TZNAME:EST
DTSTART:20231105T060000
END:STANDARD
END:VTIMEZONE
BEGIN:VEVENT
DTSTART;TZID=America/New_York:20220807T130000
DTEND;TZID=America/New_York:20220807T160000
DTSTAMP:20260421T203423
CREATED:20210119T213523Z
LAST-MODIFIED:20210119T213523Z
UID:10000590-1659877200-1659888000@ibew375.org
SUMMARY:MSHA 8 Refresher
DESCRIPTION:
URL:https://ibew375.org/event/msha-8-refresher-6/2022-08-07/
CATEGORIES:Safety
END:VEVENT
BEGIN:VEVENT
DTSTART;TZID=America/New_York:20220808T130000
DTEND;TZID=America/New_York:20220808T160000
DTSTAMP:20260421T203423
CREATED:20210119T213523Z
LAST-MODIFIED:20210119T213523Z
UID:10000591-1659963600-1659974400@ibew375.org
SUMMARY:MSHA 8 Refresher
DESCRIPTION:
URL:https://ibew375.org/event/msha-8-refresher-6/2022-08-08/
CATEGORIES:Safety
END:VEVENT
BEGIN:VEVENT
DTSTART;TZID=America/New_York:20220809T130000
DTEND;TZID=America/New_York:20220809T160000
DTSTAMP:20260421T203423
CREATED:20210119T213523Z
LAST-MODIFIED:20210119T213523Z
UID:10000592-1660050000-1660060800@ibew375.org
SUMMARY:MSHA 8 Refresher
DESCRIPTION:
URL:https://ibew375.org/event/msha-8-refresher-6/2022-08-09/
CATEGORIES:Safety
END:VEVENT
BEGIN:VEVENT
DTSTART;TZID=America/New_York:20220810T130000
DTEND;TZID=America/New_York:20220810T160000
DTSTAMP:20260421T203423
CREATED:20210119T213523Z
LAST-MODIFIED:20210119T213523Z
UID:10000593-1660136400-1660147200@ibew375.org
SUMMARY:MSHA 8 Refresher
DESCRIPTION:
URL:https://ibew375.org/event/msha-8-refresher-6/2022-08-10/
CATEGORIES:Safety
END:VEVENT
BEGIN:VEVENT
DTSTART;TZID=America/New_York:20220811T130000
DTEND;TZID=America/New_York:20220811T160000
DTSTAMP:20260421T203423
CREATED:20210119T213523Z
LAST-MODIFIED:20210119T213523Z
UID:10000594-1660222800-1660233600@ibew375.org
SUMMARY:MSHA 8 Refresher
DESCRIPTION:
URL:https://ibew375.org/event/msha-8-refresher-6/2022-08-11/
CATEGORIES:Safety
END:VEVENT
BEGIN:VEVENT
DTSTART;TZID=America/New_York:20220812T130000
DTEND;TZID=America/New_York:20220812T160000
DTSTAMP:20260421T203423
CREATED:20210119T213523Z
LAST-MODIFIED:20210119T213523Z
UID:10000595-1660309200-1660320000@ibew375.org
SUMMARY:MSHA 8 Refresher
DESCRIPTION:
URL:https://ibew375.org/event/msha-8-refresher-6/2022-08-12/
CATEGORIES:Safety
END:VEVENT
BEGIN:VEVENT
DTSTART;TZID=America/New_York:20220813T130000
DTEND;TZID=America/New_York:20220813T160000
DTSTAMP:20260421T203423
CREATED:20210119T213523Z
LAST-MODIFIED:20210119T213523Z
UID:10000596-1660395600-1660406400@ibew375.org
SUMMARY:MSHA 8 Refresher
DESCRIPTION:
URL:https://ibew375.org/event/msha-8-refresher-6/2022-08-13/
CATEGORIES:Safety
END:VEVENT
END:VCALENDAR