BEGIN:VCALENDAR
VERSION:2.0
PRODID:-//IBEW 375 - ECPv6.15.20//NONSGML v1.0//EN
CALSCALE:GREGORIAN
METHOD:PUBLISH
X-ORIGINAL-URL:https://ibew375.org
X-WR-CALDESC:Events for IBEW 375
REFRESH-INTERVAL;VALUE=DURATION:PT1H
X-Robots-Tag:noindex
X-PUBLISHED-TTL:PT1H
BEGIN:VTIMEZONE
TZID:America/New_York
BEGIN:DAYLIGHT
TZOFFSETFROM:-0500
TZOFFSETTO:-0400
TZNAME:EDT
DTSTART:20210314T070000
END:DAYLIGHT
BEGIN:STANDARD
TZOFFSETFROM:-0400
TZOFFSETTO:-0500
TZNAME:EST
DTSTART:20211107T060000
END:STANDARD
BEGIN:DAYLIGHT
TZOFFSETFROM:-0500
TZOFFSETTO:-0400
TZNAME:EDT
DTSTART:20220313T070000
END:DAYLIGHT
BEGIN:STANDARD
TZOFFSETFROM:-0400
TZOFFSETTO:-0500
TZNAME:EST
DTSTART:20221106T060000
END:STANDARD
BEGIN:DAYLIGHT
TZOFFSETFROM:-0500
TZOFFSETTO:-0400
TZNAME:EDT
DTSTART:20230312T070000
END:DAYLIGHT
BEGIN:STANDARD
TZOFFSETFROM:-0400
TZOFFSETTO:-0500
TZNAME:EST
DTSTART:20231105T060000
END:STANDARD
END:VTIMEZONE
BEGIN:VEVENT
DTSTART;TZID=America/New_York:20220724T130000
DTEND;TZID=America/New_York:20220724T160000
DTSTAMP:20260422T031141
CREATED:20210119T213523Z
LAST-MODIFIED:20210119T213523Z
UID:10000576-1658667600-1658678400@ibew375.org
SUMMARY:MSHA 8 Refresher
DESCRIPTION:
URL:https://ibew375.org/event/msha-8-refresher-6/2022-07-24/
CATEGORIES:Safety
END:VEVENT
BEGIN:VEVENT
DTSTART;TZID=America/New_York:20220725T130000
DTEND;TZID=America/New_York:20220725T160000
DTSTAMP:20260422T031141
CREATED:20210119T213523Z
LAST-MODIFIED:20210119T213523Z
UID:10000577-1658754000-1658764800@ibew375.org
SUMMARY:MSHA 8 Refresher
DESCRIPTION:
URL:https://ibew375.org/event/msha-8-refresher-6/2022-07-25/
CATEGORIES:Safety
END:VEVENT
BEGIN:VEVENT
DTSTART;TZID=America/New_York:20220726T130000
DTEND;TZID=America/New_York:20220726T160000
DTSTAMP:20260422T031141
CREATED:20210119T213523Z
LAST-MODIFIED:20210119T213523Z
UID:10000578-1658840400-1658851200@ibew375.org
SUMMARY:MSHA 8 Refresher
DESCRIPTION:
URL:https://ibew375.org/event/msha-8-refresher-6/2022-07-26/
CATEGORIES:Safety
END:VEVENT
BEGIN:VEVENT
DTSTART;TZID=America/New_York:20220727T130000
DTEND;TZID=America/New_York:20220727T160000
DTSTAMP:20260422T031141
CREATED:20210119T213523Z
LAST-MODIFIED:20210119T213523Z
UID:10000579-1658926800-1658937600@ibew375.org
SUMMARY:MSHA 8 Refresher
DESCRIPTION:
URL:https://ibew375.org/event/msha-8-refresher-6/2022-07-27/
CATEGORIES:Safety
END:VEVENT
BEGIN:VEVENT
DTSTART;TZID=America/New_York:20220728T130000
DTEND;TZID=America/New_York:20220728T160000
DTSTAMP:20260422T031141
CREATED:20210119T213523Z
LAST-MODIFIED:20210119T213523Z
UID:10000580-1659013200-1659024000@ibew375.org
SUMMARY:MSHA 8 Refresher
DESCRIPTION:
URL:https://ibew375.org/event/msha-8-refresher-6/2022-07-28/
CATEGORIES:Safety
END:VEVENT
BEGIN:VEVENT
DTSTART;TZID=America/New_York:20220729T130000
DTEND;TZID=America/New_York:20220729T160000
DTSTAMP:20260422T031141
CREATED:20210119T213523Z
LAST-MODIFIED:20210119T213523Z
UID:10000581-1659099600-1659110400@ibew375.org
SUMMARY:MSHA 8 Refresher
DESCRIPTION:
URL:https://ibew375.org/event/msha-8-refresher-6/2022-07-29/
CATEGORIES:Safety
END:VEVENT
BEGIN:VEVENT
DTSTART;TZID=America/New_York:20220730T130000
DTEND;TZID=America/New_York:20220730T160000
DTSTAMP:20260422T031141
CREATED:20210119T213523Z
LAST-MODIFIED:20210119T213523Z
UID:10000582-1659186000-1659196800@ibew375.org
SUMMARY:MSHA 8 Refresher
DESCRIPTION:
URL:https://ibew375.org/event/msha-8-refresher-6/2022-07-30/
CATEGORIES:Safety
END:VEVENT
END:VCALENDAR